BEGIN:VCALENDAR
VERSION:2.0
PRODID:icalendar-ruby
CALSCALE:GREGORIAN
BEGIN:VEVENT
DTSTAMP:20210119T034755Z
UID:d6ac04f4-05c9-4872-8fa1-5ae830464ff8
DTSTART;VALUE=DATE:20200219
DESCRIPTION:Property ID# 471926\, Time: 12:30PM
SUMMARY:Auction for 
END:VEVENT
END:VCALENDAR
