BEGIN:VCALENDAR
VERSION:2.0
PRODID:icalendar-ruby
CALSCALE:GREGORIAN
BEGIN:VEVENT
DTSTAMP:20210119T034753Z
UID:ef20ab1a-a913-4db2-8b0c-4aa991394181
DTSTART;VALUE=DATE:20200226
DESCRIPTION:Property ID# 472700\, Time: 12:30PM
SUMMARY:Auction for 
END:VEVENT
END:VCALENDAR
