BEGIN:VCALENDAR
VERSION:2.0
PRODID:icalendar-ruby
CALSCALE:GREGORIAN
BEGIN:VEVENT
DTSTAMP:20210119T034807Z
UID:9795ad70-45e1-4296-9d20-25e96128a639
DTSTART;VALUE=DATE:20200312
DESCRIPTION:Property ID# 473113\, Locatoin: 85 Rostrevor Street\, Hamilton\
 , Time: 2:00PM
SUMMARY:Auction for 
END:VEVENT
END:VCALENDAR
