BEGIN:VCALENDAR
VERSION:2.0
PRODID:icalendar-ruby
CALSCALE:GREGORIAN
BEGIN:VEVENT
DTSTAMP:20210119T034806Z
UID:a0a832b7-a255-443c-89c6-00ba46386843
DTSTART;VALUE=DATE:20200319
DESCRIPTION:Property ID# 473989\, Time: 2:00PM
SUMMARY:Auction for 
END:VEVENT
END:VCALENDAR
