BEGIN:VCALENDAR
VERSION:2.0
PRODID:icalendar-ruby
CALSCALE:GREGORIAN
BEGIN:VEVENT
DTSTAMP:20210119T034804Z
UID:80b8d467-c479-4260-a568-e92a960d6059
DTSTART;VALUE=DATE:20201001
DESCRIPTION:Property ID# 489201\, Time: 2:00PM
SUMMARY:Auction for 
END:VEVENT
END:VCALENDAR
