BEGIN:VCALENDAR
VERSION:2.0
PRODID:icalendar-ruby
CALSCALE:GREGORIAN
BEGIN:VEVENT
DTSTAMP:20210119T034744Z
UID:ef89f8a4-a6ac-4c10-864e-507ccd33c8b2
DTSTART;VALUE=DATE:20201021
DESCRIPTION:Property ID# 491886\, Locatoin: Lodge Auction Rooms 935 Victori
 a Street\, Time: 12:30PM
SUMMARY:Auction for 
END:VEVENT
END:VCALENDAR
