BEGIN:VCALENDAR
VERSION:2.0
PRODID:icalendar-ruby
CALSCALE:GREGORIAN
BEGIN:VEVENT
DTSTAMP:20210119T034835Z
UID:eab7e9cd-c15f-443f-8d6b-dbba8b7595fa
DTSTART;VALUE=DATE:20201105
DESCRIPTION:Property ID# 492583\, Time: 11:00AM
SUMMARY:Auction for 
END:VEVENT
END:VCALENDAR
