BEGIN:VCALENDAR
VERSION:2.0
PRODID:icalendar-ruby
CALSCALE:GREGORIAN
BEGIN:VEVENT
DTSTAMP:20210119T034737Z
UID:7c9e3a6c-1a25-42a2-a43c-0865b8678b5d
DTSTART;VALUE=DATE:20201118
DESCRIPTION:Property ID# 494218\, Locatoin: Lodge Auction Rooms 935 Victori
 a Street\, Time: 12:30PM
SUMMARY:Auction for A/8 Boundary Road
END:VEVENT
END:VCALENDAR
