BEGIN:VCALENDAR
VERSION:2.0
PRODID:icalendar-ruby
CALSCALE:GREGORIAN
BEGIN:VEVENT
DTSTAMP:20210119T034809Z
UID:54206ead-cfc6-4af8-90ad-8f4bc2d0f131
DTSTART;VALUE=DATE:20201125
DESCRIPTION:Property ID# 494939\, Locatoin: Lodge Auction Rooms 935 Victori
 a Street\, Time: 12:30PM
SUMMARY:Auction for 
END:VEVENT
END:VCALENDAR
