BEGIN:VCALENDAR
VERSION:2.0
PRODID:icalendar-ruby
CALSCALE:GREGORIAN
BEGIN:VEVENT
DTSTAMP:20210119T034735Z
UID:4b604b97-9713-42b5-9a31-fc7be11dc7da
DTSTART;VALUE=DATE:20201125
DESCRIPTION:Property ID# 495286\, Locatoin: Lodge Auction Rooms 935 Victori
 a Street\, Time: 12:30PM
SUMMARY:Auction for 12 Gavin Heights
END:VEVENT
END:VCALENDAR
