BEGIN:VCALENDAR
VERSION:2.0
PRODID:icalendar-ruby
CALSCALE:GREGORIAN
BEGIN:VEVENT
DTSTAMP:20210119T034759Z
UID:bd4f51f0-43dc-472d-bf3d-b019fcc815e8
DTSTART;VALUE=DATE:20201209
DESCRIPTION:Property ID# 495289\, Locatoin: Lodge Auction Rooms 935 Victori
 a Street\, Time: 12:30PM
SUMMARY:Auction for 
END:VEVENT
END:VCALENDAR
