BEGIN:VCALENDAR
VERSION:2.0
PRODID:icalendar-ruby
CALSCALE:GREGORIAN
BEGIN:VEVENT
DTSTAMP:20210119T034734Z
UID:05e218e9-0ae7-4884-8c7b-aa0e910deeab
DTSTART;VALUE=DATE:20201202
DESCRIPTION:Property ID# 495848\, Locatoin: Lodge Auction Rooms 935 Victori
 a Street\, Time: 12:30PM
SUMMARY:Auction for 36 Helen June Avenue
END:VEVENT
END:VCALENDAR
