BEGIN:VCALENDAR
VERSION:2.0
PRODID:icalendar-ruby
CALSCALE:GREGORIAN
BEGIN:VEVENT
DTSTAMP:20210119T034802Z
UID:e0a9ef51-ac4e-4867-82a3-23ab9279cba2
DTSTART;VALUE=DATE:20201203
DESCRIPTION:Property ID# 496320\, Locatoin: 85 Rostrevor Street Hamilton\, 
 Time: 12:00PM
SUMMARY:Auction for 14 Fergusson Street
END:VEVENT
END:VCALENDAR
