BEGIN:VCALENDAR
VERSION:2.0
PRODID:icalendar-ruby
CALSCALE:GREGORIAN
BEGIN:VEVENT
DTSTAMP:20210119T034836Z
UID:33a9f059-f206-46a6-8a6b-59973db701f0
DTSTART;VALUE=DATE:20201208
DESCRIPTION:Property ID# 497009\, Locatoin: Ray White Hamilton\, 91 Victori
 a St\, Hamilton.\, Time: 3:00PM
SUMMARY:Auction for 
END:VEVENT
END:VCALENDAR
