BEGIN:VCALENDAR
VERSION:2.0
PRODID:icalendar-ruby
CALSCALE:GREGORIAN
BEGIN:VEVENT
DTSTAMP:20210119T034741Z
UID:6c8267f7-dbe8-47a5-981a-c319908af866
DTSTART;VALUE=DATE:20201216
DESCRIPTION:Property ID# 497170\, Locatoin: Lodge Auction Rooms 935 Victori
 a Street\, Time: 12:30PM
SUMMARY:Auction for 
END:VEVENT
END:VCALENDAR
