BEGIN:VCALENDAR
VERSION:2.0
PRODID:icalendar-ruby
CALSCALE:GREGORIAN
BEGIN:VEVENT
DTSTAMP:20210119T034756Z
UID:bdbd7bcf-5c02-4691-a62c-6ef2e889b52d
DTSTART;VALUE=DATE:20201218
DESCRIPTION:Property ID# 497830\, Locatoin:  Lodge Auction Rooms\, 935 Vict
 oria Street\, Hamilton\, Time: 12:30PM
SUMMARY:Auction for 
END:VEVENT
END:VCALENDAR
