BEGIN:VCALENDAR
VERSION:2.0
PRODID:icalendar-ruby
CALSCALE:GREGORIAN
BEGIN:VEVENT
DTSTAMP:20210119T033925Z
UID:dd9b2119-d341-4cc4-96c1-dd8f6fc9ab32
DTSTART;VALUE=DATE:20210203
DESCRIPTION:Property ID# 498762\, Locatoin: Lodge Auction Rooms 935 Victori
 a Street\, Time: 12:30PM
SUMMARY:Auction for 13 Achilles Rise
END:VEVENT
END:VCALENDAR
