BEGIN:VCALENDAR
VERSION:2.0
PRODID:icalendar-ruby
CALSCALE:GREGORIAN
BEGIN:VEVENT
DTSTAMP:20210119T034749Z
UID:9ea8e0e2-faac-440b-b05d-462f73dbd04e
DTSTART;VALUE=DATE:20210127
DESCRIPTION:Property ID# 498857\, Locatoin: Lodge Auction Rooms 935 Victori
 a Street\, Time: 12:30PM
SUMMARY:Auction for H/53 Albert Street
END:VEVENT
END:VCALENDAR
