BEGIN:VCALENDAR
VERSION:2.0
PRODID:icalendar-ruby
CALSCALE:GREGORIAN
BEGIN:VEVENT
DTSTAMP:20210119T033920Z
UID:94fb2beb-e0ed-44f9-8f6b-cf15f710a729
DTSTART;VALUE=DATE:20210127
DESCRIPTION:Property ID# 499178\, Locatoin: Lodge Auction Rooms\, 935 Victo
 ria Street\, Hamilton\, Time: 12:30PM
SUMMARY:Auction for 
END:VEVENT
END:VCALENDAR
