BEGIN:VCALENDAR
VERSION:2.0
PRODID:icalendar-ruby
CALSCALE:GREGORIAN
BEGIN:VEVENT
DTSTAMP:20210119T034725Z
UID:bfafc6d6-6c53-43a4-a1ba-f009684488e6
DTSTART;VALUE=DATE:20210127
DESCRIPTION:Property ID# 499658\, Time: 12:30PM
SUMMARY:Auction for 32 Radiata Street
END:VEVENT
END:VCALENDAR
