BEGIN:VCALENDAR
VERSION:2.0
PRODID:icalendar-ruby
CALSCALE:GREGORIAN
BEGIN:VEVENT
DTSTAMP:20210119T033941Z
UID:9e91d610-4245-4749-9e52-5c28e9cc3ff3
DTSTART;TZID=Pacific/Auckland:20210117T130000
DTEND;TZID=Pacific/Auckland:20210117T133000
DESCRIPTION:Property ID# 497474
SUMMARY:Openhome for 60 Banbury Crescent
END:VEVENT
END:VCALENDAR
