BEGIN:VCALENDAR
VERSION:2.0
PRODID:icalendar-ruby
CALSCALE:GREGORIAN
BEGIN:VEVENT
DTSTAMP:20210119T034726Z
UID:3dbc5eb0-633f-4eec-a1d8-fc49884cc1cb
DTSTART;TZID=Pacific/Auckland:20210120T123000
DTEND;TZID=Pacific/Auckland:20210120T130000
DESCRIPTION:Property ID# 498955
SUMMARY:Openhome for 12 Defoe Avenue
END:VEVENT
END:VCALENDAR
