BEGIN:VCALENDAR
VERSION:2.0
PRODID:icalendar-ruby
CALSCALE:GREGORIAN
BEGIN:VEVENT
DTSTAMP:20210119T034722Z
UID:7fabeab9-a18c-432e-a957-c6c33fdf8af1
DTSTART;TZID=Pacific/Auckland:20210121T120000
DTEND;TZID=Pacific/Auckland:20210121T123000
DESCRIPTION:Property ID# 499658
SUMMARY:Openhome for 32 Radiata Street
END:VEVENT
END:VCALENDAR
