BEGIN:VCALENDAR
VERSION:2.0
PRODID:icalendar-ruby
CALSCALE:GREGORIAN
BEGIN:VEVENT
DTSTAMP:20210119T033909Z
UID:e27c1330-eec6-4b5b-8b61-dfe49896a4a3
DTSTART;TZID=Pacific/Auckland:20210121T130000
DTEND;TZID=Pacific/Auckland:20210121T133000
DESCRIPTION:Property ID# 499659
SUMMARY:Openhome for 79 Rototuna Road
END:VEVENT
END:VCALENDAR
