BEGIN:VCALENDAR
VERSION:2.0
PRODID:icalendar-ruby
CALSCALE:GREGORIAN
BEGIN:VEVENT
DTSTAMP:20260423T011334Z
UID:149d694e-c972-4587-9a7b-224bca73c5ba
DTSTART;VALUE=DATE:20210310
DESCRIPTION:Property ID# 501701\, Locatoin: Lodge Auction Rooms\, Time: 12:
 30PM
SUMMARY:Auction for 
END:VEVENT
END:VCALENDAR
