BEGIN:VCALENDAR
VERSION:2.0
PRODID:icalendar-ruby
CALSCALE:GREGORIAN
BEGIN:VEVENT
DTSTAMP:20260423T011507Z
UID:51b38b54-dd6f-4412-be16-fd545bdc573a
DTSTART;VALUE=DATE:20210324
DESCRIPTION:Property ID# 503869\, Locatoin: Lodge Auction Rooms 935 Victori
 a Street\, Time: 12:30PM
SUMMARY:Auction for 
END:VEVENT
END:VCALENDAR
