BEGIN:VCALENDAR
VERSION:2.0
PRODID:icalendar-ruby
CALSCALE:GREGORIAN
BEGIN:VEVENT
DTSTAMP:20260422T091000Z
UID:364294f5-2be1-451c-a265-f70853fa021b
DTSTART;VALUE=DATE:20210428
DESCRIPTION:Property ID# 506981\, Locatoin: Lodge Auction Rooms 935 Victori
 a Street\, Time: 12:30PM
SUMMARY:Auction for 
END:VEVENT
END:VCALENDAR
