BEGIN:VCALENDAR
VERSION:2.0
PRODID:icalendar-ruby
CALSCALE:GREGORIAN
BEGIN:VEVENT
DTSTAMP:20260420T224750Z
UID:bc57d6f5-777d-4617-a47e-5bcfb35c37a3
DTSTART;VALUE=DATE:20210616
DESCRIPTION:Property ID# 511077\, Locatoin: Lodge Auction Rooms\, Time: 12:
 30PM
SUMMARY:Auction for 
END:VEVENT
END:VCALENDAR
