BEGIN:VCALENDAR
VERSION:2.0
PRODID:icalendar-ruby
CALSCALE:GREGORIAN
BEGIN:VEVENT
DTSTAMP:20260422T213734Z
UID:7f8a7978-df22-43c8-89c6-72c831fa5888
DTSTART;VALUE=DATE:20210922
DESCRIPTION:Property ID# 516017\, Locatoin: Lodge Auction Rooms\, Time: 12:
 30PM
SUMMARY:Auction for 
END:VEVENT
END:VCALENDAR
